BEGIN:VCALENDAR
VERSION:2.0
PRODID:sh-gruene-fraktion.de
METHOD:PUBLISH
BEGIN:VTIMEZONE
TZID:Europe/Berlin
X-LIC-LOCATION:Europe/Berlin
BEGIN:DAYLIGHT
TZOFFSETFROM:+0100
TZOFFSETTO:+0200
TZNAME:CEST
DTSTART:19700329T020000
RRULE:FREQ=YEARLY;INTERVAL=1;BYDAY=-1SU;BYMONTH=3
END:DAYLIGHT
BEGIN:STANDARD
TZOFFSETFROM:+0200
TZOFFSETTO:+0100
TZNAME:CET
DTSTART:19701025T030000
RRULE:FREQ=YEARLY;INTERVAL=1;BYDAY=-1SU;BYMONTH=10
END:STANDARD
END:VTIMEZONE
BEGIN:VEVENT
UID:56c350dd51d6bccb0fae278bde8eb90d@sh-gruene-fraktion.de
URL;VALUE=URI:https://sh-gruene-fraktion.de/termine/filmvorfuehrung-cycli
 ng-cities/
LOCATION:Die Pumpe Kiel, Haßstraße 22, 24103 Kiel
SUMMARY:Filmvorführung „Cycling Cities“
DESCRIPTION;ALTREP="data:text/html,%0A%3Cp%3EIngwar%20Perowanowitsch%20ko
 mmt%20f%C3%BCr%20seinen%20Dokumentarfilm%20%C3%BCber%20Radverkehr%20in%20
 Europa%20zu%20uns%20nach%20Kiel.%20St%C3%A4dte%20wie%20Paris%2C%20Utrecht
 %20oder%20Gent%20zeigen%20uns%2C%20dass%20gute%20Rad%20und%20Fu%C3%9Fwege
 %2C%20mehr%20Begegnungsr%C3%A4ume%20und%20mehr%20Naherholung%20St%C3%A4dt
 e%20richtig%20beleben%20k%C3%B6nnen.%20Davon%20l%C3%A4sst%20sich%20einige
 s%20abschauen%21%3C%2Fp%3E%0A%0A%0A%0A%3Cp%3ENach%20der%20Filmvorf%C3%BCh
 rung%20diskutieren%20Ingwar%20Perowanitsch%20und%20Nelly%20Waldeck%20geme
 insam%20mit%20Euch%20und%20Ihnen%2C%20wie%20wir%20uns%20aus%20anderen%20R
 egionen%20Europas%20inspirieren%20lassen%20k%C3%B6nnen%20und%20was%20es%2
 0braucht%2C%20damit%20wir%20mehr%20Fahrradst%C3%A4dte%20in%20Schleswig-Ho
 lstein%20bekommen.%20%3C%2Fp%3E%0A%0A%0A%0A%3Cp%3EDer%20Eintritt%20ist%20
 kostenfrei%2C%20%3Ca%20href%3D%22https%3A%2F%2Fapp.guestoo.de%2Fpublic%2F
 event%2Fc798f7f9-7a23-45e1-9a4e-2c6773bc2e31%2Fframe%22%20data-type%3D%22
 link%22%20data-id%3D%22https%3A%2F%2Fapp.guestoo.de%2Fpublic%2Fevent%2Fc7
 98f7f9-7a23-45e1-9a4e-2c6773bc2e31%2Fframe%22%3Ehier%20geht%20es%20zur%20
 Anmeldung.%3C%2Fa%3E%3C%2Fp%3E%0A%0A%0A%0A%3Cdiv%20style%3D%22height%3A30
 px%22%20aria-hidden%3D%22true%22%20class%3D%22wp-block-spacer%22%3E%3C%2F
 div%3E%0A%0A%0A%0A%3Cdiv%20class%3D%22wp-block-columns%20is-layout-flex%2
 0wp-container-core-columns-is-layout-9d6595d7%20wp-block-columns-is-layou
 t-flex%22%3E%0A%3Cdiv%20class%3D%22wp-block-column%20is-layout-flow%20wp-
 block-column-is-layout-flow%22%20style%3D%22flex-basis%3A25%25%22%3E%0A%3
 Cfigure%20class%3D%22wp-block-image%20size-large%22%3E%3Cimg%20src%3D%22h
 ttps%3A%2F%2Fsh-gruene-fraktion.de%2Fwp-content%2Fuploads%2Fsites%2F4%2FN
 elly-Waldeck-683x1024.jpg%22%20alt%3D%22%22%20class%3D%22wp-image-396%22%
 20style%3D%22aspect-ratio%3A3%2F4%3Bobject-fit%3Acover%22%20%2F%3E%3C%2Ff
 igure%3E%0A%3C%2Fdiv%3E%0A%0A%0A%0A%3Cdiv%20class%3D%22wp-block-column%20
 is-layout-flow%20wp-block-column-is-layout-flow%22%20style%3D%22flex-basi
 s%3A66.66%25%22%3E%0A%3Ch2%20class%3D%22wp-block-heading%22%3ENelly%20Wal
 deck%3C%2Fh2%3E%0A%0A%0A%0A%3Cp%3ESprecherin%20f%C3%BCr%20Mobilit%C3%A4t%
 2C%20Klimaschutz%2C%20Schifffahrt%2C%20Soziales%2C%20Jugend%20und%20Antid
 iskriminierung%3C%2Fp%3E%0A%0A%0A%0A%3Cul%20class%3D%22wp-block-social-li
 nks%20has-icon-color%20has-icon-background-color%20is-layout-flex%20wp-bl
 ock-social-links-is-layout-flex%22%3E%3Cli%20style%3D%22color%3A%23ffffff
 %3Bbackground-color%3A%23005437%22%20class%3D%22wp-social-link%20wp-socia
 l-link-chain%20has-white-color%20has-tanne-background-color%20wp-block-so
 cial-link%22%3E%3Ca%20href%3D%22https%3A%2F%2Fnelly-waldeck.de%2F%22%20cl
 ass%3D%22wp-block-social-link-anchor%22%3E%3Cspan%20class%3D%22wp-block-s
 ocial-link-label%20screen-reader-text%22%3ELink%3C%2Fspan%3E%3C%2Fa%3E%3C
 %2Fli%3E%0A%0A%3Cli%20style%3D%22color%3A%23ffffff%3Bbackground-color%3A%
 23005437%22%20class%3D%22wp-social-link%20wp-social-link-instagram%20has-
 white-color%20has-tanne-background-color%20wp-block-social-link%22%3E%3Ca
 %20href%3D%22https%3A%2F%2Fwww.instagram.com%2Fnelly.waldeck%2F%22%20clas
 s%3D%22wp-block-social-link-anchor%22%3E%3Cspan%20class%3D%22wp-block-soc
 ial-link-label%20screen-reader-text%22%3EInstagram%3C%2Fspan%3E%3C%2Fa%3E
 %3C%2Fli%3E%0A%0A%3Cli%20style%3D%22color%3A%23ffffff%3Bbackground-color%
 3A%23005437%22%20class%3D%22wp-social-link%20wp-social-link-facebook%20ha
 s-white-color%20has-tanne-background-color%20wp-block-social-link%22%3E%3
 Ca%20href%3D%22https%3A%2F%2Fwww.facebook.com%2Fnelly.waldeck%22%20class%
 3D%22wp-block-social-link-anchor%22%3E%3Cspan%20class%3D%22wp-block-socia
 l-link-label%20screen-reader-text%22%3EFacebook%3C%2Fspan%3E%3C%2Fa%3E%3C
 %2Fli%3E%0A%0A%3Cli%20style%3D%22color%3A%23ffffff%3Bbackground-color%3A%
 23005437%22%20class%3D%22wp-social-link%20wp-social-link-x%20has-white-co
 lor%20has-tanne-background-color%20wp-block-social-link%22%3E%3Ca%20href%
 3D%22https%3A%2F%2Ftwitter.com%2Fwaldecknelly%22%20class%3D%22wp-block-so
 cial-link-anchor%22%3E%3Cspan%20class%3D%22wp-block-social-link-label%20s
 creen-reader-text%22%3EX%3C%2Fspan%3E%3C%2Fa%3E%3C%2Fli%3E%0A%0A%3Cli%20s
 tyle%3D%22color%3A%23ffffff%3Bbackground-color%3A%23005437%22%20class%3D%
 22wp-social-link%20wp-social-link-tiktok%20has-white-color%20has-tanne-ba
 ckground-color%20wp-block-social-link%22%3E%3Ca%20href%3D%22https%3A%2F%2
 Fwww.tiktok.com%2F%40nellywaldeck%22%20class%3D%22wp-block-social-link-an
 chor%22%3E%3Cspan%20class%3D%22wp-block-social-link-label%20screen-reader
 -text%22%3ETikTok%3C%2Fspan%3E%3C%2Fa%3E%3C%2Fli%3E%0A%0A%3Cli%20style%3D
 %22color%3A%23ffffff%3Bbackground-color%3A%23005437%22%20class%3D%22wp-so
 cial-link%20wp-social-link-linkedin%20has-white-color%20has-tanne-backgro
 und-color%20wp-block-social-link%22%3E%3Ca%20href%3D%22https%3A%2F%2Fwww.
 linkedin.com%2Fin%2Fnelly-waldeck-650057265%2F%22%20class%3D%22wp-block-s
 ocial-link-anchor%22%3E%3Cspan%20class%3D%22wp-block-social-link-label%20
 screen-reader-text%22%3ELinkedIn%3C%2Fspan%3E%3C%2Fa%3E%3C%2Fli%3E%0A%0A%
 3Cli%20style%3D%22color%3A%23ffffff%3Bbackground-color%3A%23005437%22%20c
 lass%3D%22wp-social-link%20wp-social-link-mail%20has-white-color%20has-ta
 nne-background-color%20wp-block-social-link%22%3E%3Ca%20href%3D%22mailto%
 3Anelly.waldeck%40gruene.ltsh.de%22%20class%3D%22wp-block-social-link-anc
 hor%22%3E%3Cspan%20class%3D%22wp-block-social-link-label%20screen-reader-
 text%22%3EE-Mail%3C%2Fspan%3E%3C%2Fa%3E%3C%2Fli%3E%3C%2Ful%3E%0A%0A%0A%0A
 %3Cdiv%20class%3D%22wp-block-buttons%20is-layout-flex%20wp-block-buttons-
 is-layout-flex%22%3E%0A%3Cdiv%20class%3D%22wp-block-button%20has-custom-w
 idth%20wp-block-button__width-100%22%3E%3Ca%20class%3D%22wp-block-button_
 _link%20wp-element-button%22%20href%3D%22https%3A%2F%2Fsh-gruene-fraktion
 .de%2Fnelly-waldeck%2F%22%20style%3D%22border-radius%3A21px%22%3EMehr%20e
 rfahren%3C%2Fa%3E%3C%2Fdiv%3E%0A%3C%2Fdiv%3E%0A%3C%2Fdiv%3E%0A%3C%2Fdiv%3
 E%0A":Ingwar Perowanowitsch kommt für seinen Dokumentarfilm über Radver
 kehr in Europa zu uns nach Kiel. Städte wie Paris\, Utrecht oder Gent ze
 igen uns\, dass gute Rad und Fußwege\, mehr Begegnungsräume und mehr Na
 herholung Städte richtig beleben können. Davon lässt sich einiges absc
 hauen!\n\nNach der Filmvorführung diskutieren Ingwar Perowanitsch und Ne
 lly Waldeck gemeinsam mit Euch und Ihnen\, wie wir uns aus anderen Region
 en Europas inspirieren lassen können und was es braucht\, damit wir mehr
  Fahrradstädte in Schleswig-Holstein bekommen.\n\nDer Eintritt ist koste
 nfrei\, hier geht es zur Anmeldung.\n\nNelly Waldeck\n\nSprecherin für M
 obilität\, Klimaschutz\, Schifffahrt\, Soziales\, Jugend und Antidiskrim
 inierung\n\nLink\n\nInstagram\n\nFacebook\n\nX\n\nTikTok\n\nLinkedIn\n\nE
 -Mail\n\nMehr erfahren
CLASS:PUBLIC
DTSTART;TZID=Europe/Berlin:20260507T183000
DTEND;TZID=Europe/Berlin:20260507T210000
DTSTAMP:20260424T144058
END:VEVENT
END:VCALENDAR